BEGIN:VCALENDAR
VERSION:2.0
PRODID:-//wp-events-plugin.com//7.2.3.1//EN
BEGIN:VEVENT
UID:36@communityliteraciescollaboratory.com
DTSTART;TZID=America/Chicago:20251020T000000
DTEND;TZID=America/Chicago:20251021T000000
DTSTAMP:20250728T034304Z
URL:https://communityliteraciescollaboratory.com/events/2025craftingirresi
 stible
SUMMARY:2025 Symposium | Crafting the Irresistible: Creative - Critical Lit
 eracies & Community
DESCRIPTION:The symposium will explore how the interplay between the creati
 ve and critical can bolster literacies scholarship\, pedagogical practices
 \, political and activist expression\, and community formation and transfo
 rmation.\n\nWe are particularly eager to receive proposals that explore th
 e creative-critical in relationship to one or more of the CLC's guiding te
 nets centered on an ethics of 1.) justice\, 2.) imagination\, 3.) communit
 y accountability\, and 4.) love.\n\nRegister for the symposium\n\nEmail yo
 ur proposal to BrownChairInEnglishLiteracy@gmail.com.\n\nSynchronous Propo
 sal Deadline: February 21st\, 2025\nAsynchronous Proposal Deadline: April 
 17th\, 2025\n\nA greater exploration of “community accountability” can
  be found in Alexis Pauline Gumbs’s review of “Community Accountabilit
 y: Emerging Movements to Transform Violence\,” a special issue of Social
  Justice: A Journal of Crime\, Conflict &amp\; World Order (Vol 37\, No. 
 4\, 2011-2012) edited by Alisa Bierria\, Mimi Kim\, and Clasissa Rojas. Se
 e “We Have Always Known: Embodying Community Accountability” Feminist 
 Wire\, September 18\, 2012 &lt\;https://thefeministwire.com/2012/09/we-hav
 e-always-known-embodying-community-accountability/&gt\;
ATTACH;FMTTYPE=image/jpeg:https://communityliteraciescollaboratory.com/wp-
 content/uploads/2024/10/CFP-Flyer-updated-1.png
CATEGORIES:2025 Symposium,Biannual Symposium
LOCATION:https://docs.google.com/forms/d/e/1FAIpQLSeZlBIb8aSG0uje4TDwypneYl
 kXT9_Xleou5l2qHZ6HN1UjGw/viewform
END:VEVENT
BEGIN:VTIMEZONE
TZID:America/Chicago
X-LIC-LOCATION:America/Chicago
BEGIN:DAYLIGHT
DTSTART:20250309T030000
TZOFFSETFROM:-0600
TZOFFSETTO:-0500
TZNAME:CDT
END:DAYLIGHT
END:VTIMEZONE
END:VCALENDAR