BEGIN:VCALENDAR
VERSION:2.0
PRODID:-//wp-events-plugin.com//7.2.3.1//EN
BEGIN:VEVENT
UID:61@communityliteraciescollaboratory.com
DTSTART;TZID=America/Chicago:20260212T190000
DTEND;TZID=America/Chicago:20260212T200000
DTSTAMP:20260204T041804Z
URL:https://communityliteraciescollaboratory.com/events/clothes-to-get-you
 -talking-virtual-book-discussion
SUMMARY:Clothes to Get You Talking - Virtual Book Discussion
DESCRIPTION:Join author Eric Darnell Pritchard and illustrator Shannon Wrig
 ht as they discuss their new book\, Clothes to Make You Smile: Patrick Kel
 ly Designs his Dreams. Moderated by Traci N. Todd.
ATTACH;FMTTYPE=image/jpeg:https://communityliteraciescollaboratory.com/wp-
 content/uploads/2026/02/Zoom-Poster-web-final.jpg
LOCATION:https://events.zoom.us/ev/AuoSQcSPhVfWXVfK50ETqHenWxqq3YuvVlousnLx
 xlwVfBkK8DeH~AqzZRmcThR1elEh908KgFQt92BCeFBe3XFQT9fUxzGKf4I_7Cy5X99iq6g
END:VEVENT
BEGIN:VTIMEZONE
TZID:America/Chicago
X-LIC-LOCATION:America/Chicago
BEGIN:STANDARD
DTSTART:20251102T010000
TZOFFSETFROM:-0500
TZOFFSETTO:-0600
TZNAME:CST
END:STANDARD
END:VTIMEZONE
END:VCALENDAR