BEGIN:VCALENDAR
VERSION:2.0
PRODID:-//wp-events-plugin.com//7.2.3.1//EN
BEGIN:VEVENT
UID:60@communityliteraciescollaboratory.com
DTSTART;TZID=America/Chicago:20260116T180000
DTEND;TZID=America/Chicago:20260116T200000
DTSTAMP:20251230T034544Z
URL:https://communityliteraciescollaboratory.com/events/friday-night-reads
 -new-year-new-genre
SUMMARY:Friday Night Reads: New Year\, New Genre
DESCRIPTION:This Friday Night Reads will be a silent book club on Friday\, 
 January 16th. Grab a book in a genre you don’t typically read and enjoy 
 a quiet evening of reading in good company. We'll start with brief introdu
 ctions before diving into our books.\n \nDrop in or out any time between 6
 pm - 8pm CST.
ATTACH;FMTTYPE=image/jpeg:https://communityliteraciescollaboratory.com/wp-
 content/uploads/2025/12/january-friday-night-reads.png
CATEGORIES:Friday Night Reads
LOCATION:https://events.zoom.us/ev/Ai-IxBTKta9dvkHSB13mVlBHjl_GDnK0FM-4zxKB
 lj2km1hfooDF~AiSeEfctIsEVhyTiBDAU26lLKWGxTJfW2HMDGedOFUhkzYKZUEbJD2Khpw
END:VEVENT
BEGIN:VTIMEZONE
TZID:America/Chicago
X-LIC-LOCATION:America/Chicago
BEGIN:STANDARD
DTSTART:20251102T010000
TZOFFSETFROM:-0500
TZOFFSETTO:-0600
TZNAME:CST
END:STANDARD
END:VTIMEZONE
END:VCALENDAR